BEGIN:VCALENDAR
VERSION:2.0
PRODID:-//Ferguson Road Initiative - ECPv6.15.20//NONSGML v1.0//EN
CALSCALE:GREGORIAN
METHOD:PUBLISH
X-WR-CALNAME:Ferguson Road Initiative
X-ORIGINAL-URL:https://www.fergusonroad.org
X-WR-CALDESC:Events for Ferguson Road Initiative
REFRESH-INTERVAL;VALUE=DURATION:PT1H
X-Robots-Tag:noindex
X-PUBLISHED-TTL:PT1H
BEGIN:VTIMEZONE
TZID:America/Chicago
BEGIN:DAYLIGHT
TZOFFSETFROM:-0600
TZOFFSETTO:-0500
TZNAME:CDT
DTSTART:20160313T080000
END:DAYLIGHT
BEGIN:STANDARD
TZOFFSETFROM:-0500
TZOFFSETTO:-0600
TZNAME:CST
DTSTART:20161106T070000
END:STANDARD
BEGIN:DAYLIGHT
TZOFFSETFROM:-0600
TZOFFSETTO:-0500
TZNAME:CDT
DTSTART:20170312T080000
END:DAYLIGHT
BEGIN:STANDARD
TZOFFSETFROM:-0500
TZOFFSETTO:-0600
TZNAME:CST
DTSTART:20171105T070000
END:STANDARD
BEGIN:DAYLIGHT
TZOFFSETFROM:-0600
TZOFFSETTO:-0500
TZNAME:CDT
DTSTART:20180311T080000
END:DAYLIGHT
BEGIN:STANDARD
TZOFFSETFROM:-0500
TZOFFSETTO:-0600
TZNAME:CST
DTSTART:20181104T070000
END:STANDARD
END:VTIMEZONE
BEGIN:VEVENT
DTSTART;TZID=America/Chicago:20170206T183000
DTEND;TZID=America/Chicago:20170206T193000
DTSTAMP:20260421T104834
CREATED:20170114T165832Z
LAST-MODIFIED:20170114T165832Z
UID:18321-1486405800-1486409400@www.fergusonroad.org
SUMMARY:FRI Community Connection Town Hall
DESCRIPTION:Our next FRI Community Connection Town Hall Meeting will be Monday\, February 6\, 6:30-8:30 p.m. at White Rock Church of Christ Fellowship Hall\, 9220 Ferguson Road.  Agenda includes meeting our new City Manager T. C. Broadnax.  Come hear updates regarding the FRI community and the White Rock Hills Community Recreation Center.
URL:https://www.fergusonroad.org/event/fri-community-connection-town-hall/
LOCATION:White Rock Church of Christ\, 9220 Ferguson Road\, Dallas\, TX\, 75228\, United States
CATEGORIES:Community,Meeting,Recreation
END:VEVENT
BEGIN:VEVENT
DTSTART;TZID=America/Chicago:20170216T183000
DTEND;TZID=America/Chicago:20170216T193000
DTSTAMP:20260421T104834
CREATED:20170114T170220Z
LAST-MODIFIED:20170114T170220Z
UID:18323-1487269800-1487273400@www.fergusonroad.org
SUMMARY:Townhall Introducing Interim Deputy Chief of Police
DESCRIPTION:Councilwoman Tiffinni Young\, Dist. 7\, has scheduled a town hall meeting on Thursday\, February 16 at 6:30 p.m. at White Rock Church of Christ Fellowship Hall\, 9220 Ferguson Road.  She is introducing to the community our interim Deputy Chief of Police from the NorthEast Substation\, Avery Moore.
URL:https://www.fergusonroad.org/event/townhall-introducing-interim-deputy-chief-of-police/
LOCATION:White Rock Church of Christ\, 9220 Ferguson Road\, Dallas\, TX\, 75228\, United States
CATEGORIES:Community,Meeting
END:VEVENT
END:VCALENDAR