BEGIN:VCALENDAR
VERSION:2.0
PRODID:-//Ferguson Road Initiative - ECPv6.15.20//NONSGML v1.0//EN
CALSCALE:GREGORIAN
METHOD:PUBLISH
X-WR-CALNAME:Ferguson Road Initiative
X-ORIGINAL-URL:https://www.fergusonroad.org
X-WR-CALDESC:Events for Ferguson Road Initiative
REFRESH-INTERVAL;VALUE=DURATION:PT1H
X-Robots-Tag:noindex
X-PUBLISHED-TTL:PT1H
BEGIN:VTIMEZONE
TZID:America/Chicago
BEGIN:DAYLIGHT
TZOFFSETFROM:-0600
TZOFFSETTO:-0500
TZNAME:CDT
DTSTART:20110313T080000
END:DAYLIGHT
BEGIN:STANDARD
TZOFFSETFROM:-0500
TZOFFSETTO:-0600
TZNAME:CST
DTSTART:20111106T070000
END:STANDARD
BEGIN:DAYLIGHT
TZOFFSETFROM:-0600
TZOFFSETTO:-0500
TZNAME:CDT
DTSTART:20120311T080000
END:DAYLIGHT
BEGIN:STANDARD
TZOFFSETFROM:-0500
TZOFFSETTO:-0600
TZNAME:CST
DTSTART:20121104T070000
END:STANDARD
BEGIN:DAYLIGHT
TZOFFSETFROM:-0600
TZOFFSETTO:-0500
TZNAME:CDT
DTSTART:20130310T080000
END:DAYLIGHT
BEGIN:STANDARD
TZOFFSETFROM:-0500
TZOFFSETTO:-0600
TZNAME:CST
DTSTART:20131103T070000
END:STANDARD
END:VTIMEZONE
BEGIN:VTIMEZONE
TZID:UTC
BEGIN:STANDARD
TZOFFSETFROM:+0000
TZOFFSETTO:+0000
TZNAME:UTC
DTSTART:20110101T000000
END:STANDARD
END:VTIMEZONE
BEGIN:VEVENT
DTSTART;TZID=America/Chicago:20121208T100000
DTEND;TZID=America/Chicago:20121208T140000
DTSTAMP:20260421T201945
CREATED:20120911T033912Z
LAST-MODIFIED:20120911T033912Z
UID:1855-1354960800-1354975200@www.fergusonroad.org
SUMMARY:DEFY Phase II Camp Saturdays
DESCRIPTION:Meetings will take place from 10am to 2pm in Community Room 108 at the Pleasant Grove Eastfield College Campus/802 South Buckner.
URL:https://www.fergusonroad.org/event/defy-phase-ii-camp-saturdays-3/
LOCATION:Pleasant Grove Eastfield College Campus\, 802 South Buckner\, Dallas\, TX\, 75217\, United States
CATEGORIES:Charity,Meeting
END:VEVENT
BEGIN:VEVENT
DTSTART;TZID=UTC:20121113T080000
DTEND;TZID=UTC:20121115T170000
DTSTAMP:20260421T201945
CREATED:20120911T034843Z
LAST-MODIFIED:20120911T035756Z
UID:1859-1352793600-1352998800@www.fergusonroad.org
SUMMARY:Law Enforcement Training and Technical Assistance
DESCRIPTION:Training and technical assistance for new law enforcement officers and practitioners  \nSKILL-BASED TRAINING CONDUCTED BY THE NATIONAL CRIME PREVENTION COUNCIL AND HOSTED BY THE FERGUSON ROAD INITIATIVE AND WHITE ROCK HILLS BRANCH LIBRARY \nThe National Crime Prevention Council (NCPC)\, in partnership with the U.S. Department of Justice\, Office of Justice Programs\, Bureau of Justice Assistance (BJA)\, will provide training and technical assistance to newly hired law enforcement officers and crime prevention practitioners.  Our goal is to provide officers and practitioners with skill-based training\, tools\, and resources to assist you in executing your jobs effectively\, which\, in turn\, keeps your communities safe. The officers and practitioners for the Dallas course will receive a three-day 24-hour Basic Crime Prevention Course with topics such as: \nEmerging Crime Trends		Frauds and Scams	    Cyber Safety\nBusiness Crime Prevention	Neighborhood Watch	    CPTED\nCrime Prevention Resources	Senior Safety		    Gangs \nNCPC now has a certification for National Crime Prevention Specialist.  It is the ONLY national certification in the country in crime prevention.  This course and any previous training courses and education will go towards your points.  To get an application\, download it from www.ncpc.org or email ncpa@ncpc.org. \nTRAINING DATES: 	           TRAINING FEE:\nNovember 13-15\, 2012      FREE \nTRAINING LOCATION:\nWhite Rock Hills Branch Library\n9150 Ferguson Road\nDallas\, TX 75228\n214-670-8443 whiterockhills@dallaslibrary.org \nTravel\, lodging\, and food costs are the\nresponsibility of the participant \nREGISTER TODAY for the 24- hour Basic Crime Prevention Skill-building Course! \nONLINE REGISTRATION\nWWW.NCPC.ORG/TRAINING OR FAX REGISTRATION FORM TO 202-296-1356 \n************************\nFOR MORE INFORMATION TO REGISTER:\nSarita Coletrane\, NCPC\n202-261-4162 or coletrane@ncpc.org \nFOR MORE INFORMATION ON THE COURSE:\nChuck Sczuroski\, NCPC\n202-615-9093 or csczuroski@ncpc.org\n___________________________________________________________________________________\nThis project was supported by Grant No. 2010-DG-BX-K036 awarded by the Bureau of Justice Assistance.  The Bureau of Justice Assistance is a component of the Office of Justice Programs\, which also includes the Bureau of Justice Statistics\, the National Institute of Justice\, the Office of Juvenile Justice and Delinquency Prevention\, the SMART Office\, and the Office for Victims of Crime.  Points of view or opinions in this document are those of the author and do not represent the official position or policies of the United States Department of Justice.
URL:https://www.fergusonroad.org/event/meet-east-dallas/
LOCATION:White Rock Hills Branch Library\, 9150 Ferguson Road\, Dallas\, TX\, 75228\, United States
CATEGORIES:Meeting
END:VEVENT
BEGIN:VEVENT
DTSTART;TZID=America/Chicago:20121110T100000
DTEND;TZID=America/Chicago:20121110T140000
DTSTAMP:20260421T201945
CREATED:20120911T033513Z
LAST-MODIFIED:20120911T033727Z
UID:1851-1352541600-1352556000@www.fergusonroad.org
SUMMARY:DEFY Phase II Camp Saturdays
DESCRIPTION:Meetings will take place from 10am to 2pm in Community Room 108 at the Pleasant Grove Eastfield College Campus/802 South Buckner.
URL:https://www.fergusonroad.org/event/defy-phase-ii-camp-saturdays/
LOCATION:Pleasant Grove Eastfield College Campus\, 802 South Buckner\, Dallas\, TX\, 75217\, Select a Country:
CATEGORIES:Charity,Meeting
END:VEVENT
BEGIN:VEVENT
DTSTART;TZID=America/Chicago:20121020T100000
DTEND;TZID=America/Chicago:20121020T140000
DTSTAMP:20260421T201945
CREATED:20120911T033639Z
LAST-MODIFIED:20120911T033752Z
UID:1853-1350727200-1350741600@www.fergusonroad.org
SUMMARY:DEFY Phase II Camp Saturdays
DESCRIPTION:Meetings will take place from 10am to 2pm in Community Room 108 at the Pleasant Grove Eastfield College Campus/802 South Buckner.
URL:https://www.fergusonroad.org/event/defy-phase-ii-camp-saturdays-2/
LOCATION:Pleasant Grove Eastfield College Campus\, 802 South Buckner\, Dallas\, TX\, 75217\, United States
CATEGORIES:Charity,Meeting
END:VEVENT
BEGIN:VEVENT
DTSTART;TZID=America/Chicago:20121004T113000
DTEND;TZID=America/Chicago:20121004T123000
DTSTAMP:20260421T201945
CREATED:20120911T135157Z
LAST-MODIFIED:20120911T135157Z
UID:1870-1349350200-1349353800@www.fergusonroad.org
SUMMARY:East Dallas Networking Lunch
DESCRIPTION:East Dallas Networking was created by\, and specifically for business owners in East Dallas. Our membership is largely comprised of small business owners serving the greater East Dallas community.  \nRSVP here: http://www.meetup.com/East-Dallas-Networking/
URL:https://www.fergusonroad.org/event/east-dallas-networking-lunch-3/
LOCATION:Highland Park Cafeteria\, 1200 North Buckner\, Dallas\, TX\, United States
CATEGORIES:Business,Meeting
END:VEVENT
BEGIN:VEVENT
DTSTART;TZID=America/Chicago:20120927T113000
DTEND;TZID=America/Chicago:20120927T123000
DTSTAMP:20260421T201945
CREATED:20120911T134836Z
LAST-MODIFIED:20120911T134836Z
UID:1868-1348745400-1348749000@www.fergusonroad.org
SUMMARY:East Dallas Networking Lunch
DESCRIPTION:East Dallas Networking was created by\, and specifically for business owners in East Dallas. Our membership is largely comprised of small business owners serving the greater East Dallas community.  \nRSVP here: http://www.meetup.com/East-Dallas-Networking/
URL:https://www.fergusonroad.org/event/east-dallas-networking-lunch-2/
LOCATION:Highland Park Cafeteria\, 1200 North Buckner\, Dallas\, TX\, United States
CATEGORIES:Business,Meeting
END:VEVENT
BEGIN:VEVENT
DTSTART;TZID=UTC:20120920T113000
DTEND;TZID=UTC:20120920T123000
DTSTAMP:20260421T201945
CREATED:20120911T134730Z
LAST-MODIFIED:20120911T134730Z
UID:1865-1348140600-1348144200@www.fergusonroad.org
SUMMARY:East Dallas Networking Lunch
DESCRIPTION:East Dallas Networking was created by\, and specifically for business owners in East Dallas. Our membership is largely comprised of small business owners serving the greater East Dallas community.  \nRSVP here: http://www.meetup.com/East-Dallas-Networking/
URL:https://www.fergusonroad.org/event/east-dallas-networking-lunch/
LOCATION:Highland Park Cafeteria\, 1200 North Buckner\, Dallas\, TX\, United States
CATEGORIES:Business,Meeting
END:VEVENT
BEGIN:VEVENT
DTSTART;TZID=UTC:20120915T150000
DTEND;TZID=UTC:20120915T170000
DTSTAMP:20260421T201945
CREATED:20120911T034556Z
LAST-MODIFIED:20120911T034556Z
UID:1857-1347721200-1347728400@www.fergusonroad.org
SUMMARY:2-Points to White Rock East Area Plan Community Meeting
DESCRIPTION:You are invited to the Third Community Meeting for the\n2-Points to White Rock East Area Plan \nA study for the future of the area in Far East Dallas\nSaturday\, September 15\, 2012\n3:00 PM \nWhite Rock Hills Branch Library\nFerguson Road at Hibiscus\n(right behind the White Rock Hills Church of Christ) \nFor more information and a look at the draft plan go to\nwww.2pointstowhiterockeast.com
URL:https://www.fergusonroad.org/event/2-points-to-white-rock-east-area-plan-community-meeting/
LOCATION:White Rock Hills Branch Library\, Dallas\, TX\, United States
CATEGORIES:Meeting
END:VEVENT
BEGIN:VEVENT
DTSTART;TZID=UTC:20120913T173000
DTEND;TZID=UTC:20120913T193000
DTSTAMP:20260421T201945
CREATED:20120911T140146Z
LAST-MODIFIED:20120911T140558Z
UID:1872-1347557400-1347564600@www.fergusonroad.org
SUMMARY:MEET! East Dallas
DESCRIPTION:Proceeds benefiting those served by the Exchange Club of East Dallas’\n“Coats for Kids” \nHome \n \nRSVP here: http://www.meetup.com/East-Dallas-Networking/events/55356892/
URL:https://www.fergusonroad.org/event/meet-east-dallas-2/
LOCATION:C.C. Young – The Point\, 4847 W. Lawther Road\, Dallas\, TX\, United States
CATEGORIES:Business,Fundraising,Meeting
END:VEVENT
BEGIN:VEVENT
DTSTART;TZID=UTC:20120418T073000
DTEND;TZID=UTC:20120418T084559
DTSTAMP:20260421T201945
CREATED:20120329T014329Z
LAST-MODIFIED:20120329T014329Z
UID:1244-1334734200-1334738759@www.fergusonroad.org
SUMMARY:FRI Community Connection Breakfast
DESCRIPTION:April 18\, 2012 – Wednesday\, (7:30am – 8:45am) – FRI Community Connection Breakfast – “Keeping FRI Safe” – Join local businesses and non-profit organizations that play a vital role in keeping and improving the safety of our community. Representatives from the Dallas Police will provide some additional insight and history of safety in the FRI neighborhoods. Circle Grill Restaurant\, 3701 N. Buckner Blvd. \nRemember\, every 3rd Wednesday the FRI Community Connection breakfast will be held focusing on different businesses and topics in our community. As community members and business leaders come together to blur the line between commerce and community. Location will change from month to month. If you are a Community Connection member and would like to host a breakfast at your location\, please let the FRI office know.
URL:https://www.fergusonroad.org/event/fri-community-connection-breakfast/
LOCATION:Circle Grill Restaurant\,  3701 N. Buckner Blvd.
CATEGORIES:Business,Charity,Meeting
END:VEVENT
BEGIN:VEVENT
DTSTART;TZID=UTC:20120130T183000
DTEND;TZID=UTC:20120130T200059
DTSTAMP:20260421T201945
CREATED:20120102T024338Z
LAST-MODIFIED:20120102T024338Z
UID:1210-1327948200-1327953659@www.fergusonroad.org
SUMMARY:FRI Steering Committee Meeting
DESCRIPTION:The next FRI Steering Committee Meeting will be January 30\, 6:30 p.m. at White Rock Church of Christ. This will be our General Meeting & Election of Officers & Directors for FRI. In accordance with our Bylaws\, “FRI members may place in nomination the name of any current FRI member\, but such nominations must be received in writing by Dr. Ken Cantrell (cantrellpearce@sbcglobal.net) 8541 Ferguson Road\, Dallas\, TX 75228\, at least 10 calendar days prior to the General Meeting. Such nominations must include the signatures of the persons making the nomination(s) and seconding nomination(s)\, plus the written permission of the nominee(s). Nominations meeting these criteria will then be added to the ballot for voting at the FRI Annual Meeting.”
URL:https://www.fergusonroad.org/event/fri-steering-committee-meeting/
LOCATION:White Rock Church of Christ\, 9220 Ferguson Road\, Dallas\, TX\, 75228\, United States
CATEGORIES:Business,Meeting
END:VEVENT
END:VCALENDAR