BEGIN:VCALENDAR
VERSION:2.0
PRODID:-//Ferguson Road Initiative - ECPv6.15.20//NONSGML v1.0//EN
CALSCALE:GREGORIAN
METHOD:PUBLISH
X-WR-CALNAME:Ferguson Road Initiative
X-ORIGINAL-URL:https://www.fergusonroad.org
X-WR-CALDESC:Events for Ferguson Road Initiative
REFRESH-INTERVAL;VALUE=DURATION:PT1H
X-Robots-Tag:noindex
X-PUBLISHED-TTL:PT1H
BEGIN:VTIMEZONE
TZID:America/Chicago
BEGIN:DAYLIGHT
TZOFFSETFROM:-0600
TZOFFSETTO:-0500
TZNAME:CDT
DTSTART:20190310T080000
END:DAYLIGHT
BEGIN:STANDARD
TZOFFSETFROM:-0500
TZOFFSETTO:-0600
TZNAME:CST
DTSTART:20191103T070000
END:STANDARD
BEGIN:DAYLIGHT
TZOFFSETFROM:-0600
TZOFFSETTO:-0500
TZNAME:CDT
DTSTART:20200308T080000
END:DAYLIGHT
BEGIN:STANDARD
TZOFFSETFROM:-0500
TZOFFSETTO:-0600
TZNAME:CST
DTSTART:20201101T070000
END:STANDARD
BEGIN:DAYLIGHT
TZOFFSETFROM:-0600
TZOFFSETTO:-0500
TZNAME:CDT
DTSTART:20210314T080000
END:DAYLIGHT
BEGIN:STANDARD
TZOFFSETFROM:-0500
TZOFFSETTO:-0600
TZNAME:CST
DTSTART:20211107T070000
END:STANDARD
BEGIN:DAYLIGHT
TZOFFSETFROM:-0600
TZOFFSETTO:-0500
TZNAME:CDT
DTSTART:20220313T080000
END:DAYLIGHT
BEGIN:STANDARD
TZOFFSETFROM:-0500
TZOFFSETTO:-0600
TZNAME:CST
DTSTART:20221106T070000
END:STANDARD
END:VTIMEZONE
BEGIN:VEVENT
DTSTART;VALUE=DATE:20201201
DTEND;VALUE=DATE:20201225
DTSTAMP:20260421T181217
CREATED:20201012T212046Z
LAST-MODIFIED:20201201T020054Z
UID:20058-1606780800-1608854399@www.fergusonroad.org
SUMMARY:Holiday Donation Drives\, Dec 1-Dec 24
DESCRIPTION:Holiday Food donations will be accepted at St. Vincent De Paul\, 2728 Gus Thomasson Road 9-11 a.m. on the following dates: \nOctober 17\, 24\, 31 \nNovember 7\, 14\, 21
URL:https://www.fergusonroad.org/event/holiday-food-donations-oct-17-nov-21/
LOCATION:St. Vincent De Paul\, 2728 Gus Thomasson Rd\, Dallas\, 75228\, United States
CATEGORIES:Charity
END:VEVENT
BEGIN:VEVENT
DTSTART;TZID=America/Chicago:20210724T090000
DTEND;TZID=America/Chicago:20210724T150000
DTSTAMP:20260421T181217
CREATED:20210628T210638Z
LAST-MODIFIED:20210831T205011Z
UID:20425-1627117200-1627138800@www.fergusonroad.org
SUMMARY:Carter BloodCare Blood Drive
DESCRIPTION:Saturday\, July 24\, 20219:00am – 3:00 pm \nSponsored by Ferguson Road Initiative \nLocation:\nWhite Rock Church of Christ9220 Ferguson RdDallas\, TX 75228Carter BloodCare Bus \n  \nContact:\nOlivia Vazquezoliviavazquez@fergusonroad.org \n  \nScan QR Code or Click on Link to Schedule Appointment:\n \nhttps://ww3.greatpartners.org/donor/schedules/drive_schedule/121048\n  \n \n  \nPrint Out the Flyer:
URL:https://www.fergusonroad.org/event/blood-drive-2/
LOCATION:White Rock Church of Christ\, 9220 Ferguson Road\, Dallas\, 75228\, United States
CATEGORIES:Charity,Community
END:VEVENT
END:VCALENDAR