BEGIN:VCALENDAR
VERSION:2.0
PRODID:-//Ferguson Road Initiative - ECPv6.15.20//NONSGML v1.0//EN
CALSCALE:GREGORIAN
METHOD:PUBLISH
X-WR-CALNAME:Ferguson Road Initiative
X-ORIGINAL-URL:https://www.fergusonroad.org
X-WR-CALDESC:Events for Ferguson Road Initiative
REFRESH-INTERVAL;VALUE=DURATION:PT1H
X-Robots-Tag:noindex
X-PUBLISHED-TTL:PT1H
BEGIN:VTIMEZONE
TZID:America/Chicago
BEGIN:DAYLIGHT
TZOFFSETFROM:-0600
TZOFFSETTO:-0500
TZNAME:CDT
DTSTART:20160313T080000
END:DAYLIGHT
BEGIN:STANDARD
TZOFFSETFROM:-0500
TZOFFSETTO:-0600
TZNAME:CST
DTSTART:20161106T070000
END:STANDARD
BEGIN:DAYLIGHT
TZOFFSETFROM:-0600
TZOFFSETTO:-0500
TZNAME:CDT
DTSTART:20170312T080000
END:DAYLIGHT
BEGIN:STANDARD
TZOFFSETFROM:-0500
TZOFFSETTO:-0600
TZNAME:CST
DTSTART:20171105T070000
END:STANDARD
BEGIN:DAYLIGHT
TZOFFSETFROM:-0600
TZOFFSETTO:-0500
TZNAME:CDT
DTSTART:20180311T080000
END:DAYLIGHT
BEGIN:STANDARD
TZOFFSETFROM:-0500
TZOFFSETTO:-0600
TZNAME:CST
DTSTART:20181104T070000
END:STANDARD
END:VTIMEZONE
BEGIN:VEVENT
DTSTART;TZID=America/Chicago:20170304T090000
DTEND;TZID=America/Chicago:20170304T120000
DTSTAMP:20260421T060444
CREATED:20161129T190647Z
LAST-MODIFIED:20170114T170451Z
UID:18296-1488618000-1488628800@www.fergusonroad.org
SUMMARY:Operation Beautification Litter Clean Up
DESCRIPTION:Join Ferguson Road Initiative To Clean & Beautify Far East Dallas!\nGather your friends\, neighbors\, church\, school and community groups to organize a beautification and/or clean-up project. \nThere are 35 FRI Neighborhoods eligible to register for trash collection assistance: \n\nTarget your neighborhood parks\, streets\, vacant lots and school grounds for a litter and debris abatement campaign.\nDo you need help with graffiti removal?\nRegister early if you need supplies\, details coming soon!\nCall the FRI office at 214-324-5116 or\nEmail volunteer@fergusonroad.org\n\n \nPlan to meet at Walgreens (2301 Lakeland @ Ferguson; SEE MAP BELOW). Refreshments\, supplies\, and good fellowship will be provided.  Our key sponsor is Young Chevrolet.
URL:https://www.fergusonroad.org/event/operation-beautification-litter-clean-up/
LOCATION:Walgreens at Lakeland/Ferguson\, 2301 Lakeland Dr\, Dallas\, TX\, 75228\, United States
CATEGORIES:Community
END:VEVENT
END:VCALENDAR